BEGIN:VCALENDAR
VERSION:2.0
PRODID:-//Δημοτική Βιβλιοθήκη Χανίων - ECPv6.15.14//NONSGML v1.0//EN
CALSCALE:GREGORIAN
METHOD:PUBLISH
X-WR-CALNAME:Δημοτική Βιβλιοθήκη Χανίων
X-ORIGINAL-URL:https://librarychania.gr
X-WR-CALDESC:Δημοτική Βιβλιοθήκη Χανίων - Εκδηλώσεις
REFRESH-INTERVAL;VALUE=DURATION:PT1H
X-Robots-Tag:noindex
X-PUBLISHED-TTL:PT1H
BEGIN:VTIMEZONE
TZID:Europe/Athens
BEGIN:DAYLIGHT
TZOFFSETFROM:+0200
TZOFFSETTO:+0300
TZNAME:EEST
DTSTART:20230326T010000
END:DAYLIGHT
BEGIN:STANDARD
TZOFFSETFROM:+0300
TZOFFSETTO:+0200
TZNAME:EET
DTSTART:20231029T010000
END:STANDARD
BEGIN:DAYLIGHT
TZOFFSETFROM:+0200
TZOFFSETTO:+0300
TZNAME:EEST
DTSTART:20240331T010000
END:DAYLIGHT
BEGIN:STANDARD
TZOFFSETFROM:+0300
TZOFFSETTO:+0200
TZNAME:EET
DTSTART:20241027T010000
END:STANDARD
BEGIN:DAYLIGHT
TZOFFSETFROM:+0200
TZOFFSETTO:+0300
TZNAME:EEST
DTSTART:20250330T010000
END:DAYLIGHT
BEGIN:STANDARD
TZOFFSETFROM:+0300
TZOFFSETTO:+0200
TZNAME:EET
DTSTART:20251026T010000
END:STANDARD
BEGIN:DAYLIGHT
TZOFFSETFROM:+0200
TZOFFSETTO:+0300
TZNAME:EEST
DTSTART:20260329T010000
END:DAYLIGHT
BEGIN:STANDARD
TZOFFSETFROM:+0300
TZOFFSETTO:+0200
TZNAME:EET
DTSTART:20261025T010000
END:STANDARD
END:VTIMEZONE
BEGIN:VEVENT
DTSTART;TZID=Europe/Athens:20250426T110000
DTEND;TZID=Europe/Athens:20250426T130000
DTSTAMP:20260421T184948
CREATED:20250428T070411Z
LAST-MODIFIED:20250502T052731Z
UID:11281-1745665200-1745672400@librarychania.gr
SUMMARY:Παγκόσμια Ημέρα Βιβλίου
DESCRIPTION:Η Δημοτική Βιβλιοθήκη Χανίων στο πλαίσιο της Παγκόσμιας Ημέρας Βιβλίου\, συμμετέχει στον «Περίπατο Βιβλίου»\, που διοργανώνει η Ένωση Ελληνικού Βιβλίου και οργανώνει εκδήλωση για τα παιδιά\, το Σάββατο 26 Απριλίου 2025\, ώρα 11π.μ. στην Παιδική-Εφηβική Βιβλιοθήκη Δημοτικού Κήπου. \nΣτο πλαίσιο εκδήλωσης θα πραγματοποιηθεί θεατρικό παιχνίδι με κινησιολογικούς και εκφραστικούς πειραματισμούς\, αυτοσχεδιασμούς\, διαδραστική αφήγηση και αναπαράσταση με θέμα:\n«Οι συνομιλίες της Άνοιξης». \nΜουσικές\, τραγούδια\, παραμύθια\, στίχοι από ποιήματα που εξυμνούν την Άνοιξη\, θα είναι τα εργαλεία μας\, για μία δράση που θα μας ταξιδέψει στα χρωματιστά δρομάκια της αγάπης\, της αλληλεγγύης και της ενσυναίσθησης! \nΕμψυχώνει η Χριστίνα Βεριβάκη. \nΗ δράση απευθύνεται σε παιδιά ηλικίας 7+ \nΑναμνηστικοί σελιδοδείκτες\, μολύβια Faber και αφίσες με το μήνυμα «διαβάζω & αλλάζω» θα μοιράζονται στους μικρούς βιβλιόφιλους\, τοποθετημένα μέσα σε μια καλαίσθητη τσάντα με το λογότυπο της δράσης. \nΠληροφορίες στο τηλέφωνο της Βιβλιοθήκης: 2821-3-41774 \nΗ Παγκόσμια Ημέρα Βιβλίου εορτάζεται στις 23 Απριλίου\, όπως έχει καθιερωθεί διεθνώς από την UNESCO. \nΟ Περίπατος Βιβλίου\, με ιστορία ήδη 10 ετών\, έχει καθιερωθεί στη συνείδηση του κοινού ως η βιβλιοφιλική βόλτα που δίνει την ευκαιρία στους αναγνώστες και φίλους του βιβλίου να παρακολουθήσουν ενδιαφέρουσες εκδηλώσεις\, να γνωρίσουν αγαπημένους συγγραφείς\, να συμμετάσχουν σε δρώμενα\, να νιώσουν μια διαφορετική εμπειρία από την επαφή τους με το βιβλίο και κυρίως… να βρεθούν μεταξύ τους! \nΣτην ιστοσελίδα της www.greekbookday.gr είναι αναρτημένες οι εκδηλώσεις του Περιπάτου\, διευκολύνοντας τους αναγνώστες να επιλέξουν εκείνες που τους ενδιαφέρουν. \n  \n \nΣάββατο 26 Απριλίου 2025 \nΗ δράση ξεκίνησε με παιχνίδια γνωριμίας και με την ανάγνωση του παραμυθιού\, «Η ιστορία του Ηλία που αγαπούσε τα βιβλία» της Donaldson Julia. Τα παιδιά\, διασκέδασαν με τη δραματοποιημένη απόδοση της ιστορίας και στην συνέχεια αναπαράστησαν τους αγαπημένους τους ήρωες μ’ ευφάνταστους κινησιολογικούς και εκφραστικούς τρόπους.\nΚατόπιν δημιούργησαν μικρές ομάδες\, συνεργάστηκαν\, έφτιαξαν και παρουσίασαν τις δικές τους αυτοσχέδιες ιστορίες επηρεασμένες\, από την υπόθεση του παραμυθιού.\nΤέλος έφτιαξαν το δικό τους βιβλίο χρησιμοποιώντας διάφορα χρώματα και υλικά έχοντας ως σκοπό την καταγραφή των δικών τους πρωτότυπων ιστοριών!\nΚαι φεύγοντας τους δόθηκαν αναμνηστικοί σελιδοδείκτες και αφίσες με το μήνυμα «διαβάζω & αλλάζω» τοποθετημένα μέσα σε μια καλαίσθητη τσάντα με το λογότυπο της δράσης! \n  \n\n			\n				\n			\n			\n				\n			\n			\n				\n			\n			\n				\n			\n			\n				\n			\n			\n				\n			\n		\n\n  \n  \n 
URL:https://librarychania.gr/the-event/%cf%80%ce%b1%ce%b3%ce%ba%cf%8c%cf%83%ce%bc%ce%b9%ce%b1-%ce%b7%ce%bc%ce%ad%cf%81%ce%b1-%ce%b2%ce%b9%ce%b2%ce%bb%ce%af%ce%bf%cf%85-%ce%b4%ce%b9%ce%b1%ce%b2%ce%ac%ce%b6%cf%89-%ce%b1%ce%bb%ce%bb-2/
LOCATION:Παιδική-Εφηβική Βιβλιοθήκη Δημοτικού Κήπου\, Δημοτικός Κήπος Χανίων\, Χανιά\, Χανίων\, 73100\, Ελλάδα
CATEGORIES:17 Στόχοι Βιώσιμης Ανάπτυξης,Εκδηλώσεις,Παγκόσμια Ημέρα Βιβλίου,Στόχος 17 – Συνεργασία για τους Στόχους,Στόχος 4 – Ποιοτική Εκπαίδευση
ATTACH;FMTTYPE=image/jpeg:https://librarychania.gr/wp-content/uploads/2025/04/ημερα-βιβλιου-2025.jpg
END:VEVENT
BEGIN:VEVENT
DTSTART;TZID=Europe/Athens:20240427T110000
DTEND;TZID=Europe/Athens:20240427T133000
DTSTAMP:20260421T184948
CREATED:20240508T070833Z
LAST-MODIFIED:20240508T071628Z
UID:9195-1714215600-1714224600@librarychania.gr
SUMMARY:Παγκόσμια Ημέρα Βιβλίου – Εκδήλωση για παιδιά με τους «Παραμυθάδες εν πλω»
DESCRIPTION:Στο πλαίσιο της Παγκόσμιας Ημέρας Βιβλίου\, η Δημοτική Βιβλιοθήκη Χανίων συμμετείχε στον «Περίπατο Βιβλίου» που διοργάνωσε η Ένωση Ελληνικού Βιβλίου\, το Σάββατο 27 Απριλίου 2024\,  σε συνεργασία με την ομάδα αφήγησης της πόλης μας «Παραμυθάδες εν πλω». \nΣτο πλαίσιο εκδήλωσης  πραγματοποιήθηκε διαδραστική\, παραστατική αφήγηση με θέμα: Παραμύθια μυρωδάτα της Άνοιξης”. Ιστορίες\, που μιλούν για Άνοιξη\, μεταμορφώσεις\, αγάπη\, αλληλεγγύη\, με συνοδεία μουσικών οργάνων! \nΑφηγήθηκαν οι: Δήμητρα Βαλαβάνη\, Αγγελική Μπεμπλιδάκη\, Νίκος Μπλαζάκης\, Στέλλα Ροζάκη και η Δέσποινα Τζιάκη. \nΣτην Παιδική-Εφηβική Βιβλιοθήκη και στον πανέμορφο καταπράσινο Δημοτικό Κήπο\,  οι Παραμυθάδες εν Πλω  αφηγήθηκαν ανοιξιάτικες και πασχαλινές ιστορίες !!! \nΠαραμυθένια και όμορφα περάσαμε σήμερα\, το Σάββατο του Λαζάρου!!! \nΕυχαριστούμε θερμά για τη συνεργασία!!! Μια εξαιρετική εκδήλωση που απόλαυσαν μικροί και μεγάλοι!!! \nΚαι σε άλλες συνεργασίες με υγεία! \nΚαλό Πάσχα στους εκλεκτούς Παραμυθάδες μας και σε όλους!!! \n  \n 
URL:https://librarychania.gr/the-event/%cf%80%ce%b1%ce%b3%ce%ba%cf%8c%cf%83%ce%bc%ce%b9%ce%b1-%ce%b7%ce%bc%ce%ad%cf%81%ce%b1-%ce%b2%ce%b9%ce%b2%ce%bb%ce%af%ce%bf%cf%85-%ce%b5%ce%ba%ce%b4%ce%ae%ce%bb%cf%89%cf%83%ce%b7-%ce%b3%ce%b9-3/
LOCATION:Παιδική-Εφηβική Βιβλιοθήκη Δημοτικού Κήπου\, Δημοτικός Κήπος Χανίων\, Χανιά\, Χανίων\, 73100\, Ελλάδα
CATEGORIES:17 Στόχοι Βιώσιμης Ανάπτυξης,Εκδηλώσεις,Παγκόσμια Ημέρα Βιβλίου,Στόχος 17 – Συνεργασία για τους Στόχους,Στόχος 4 – Ποιοτική Εκπαίδευση
ATTACH;FMTTYPE=image/jpeg:https://librarychania.gr/wp-content/uploads/2024/05/παρ16.jpg
END:VEVENT
END:VCALENDAR