BEGIN:VCALENDAR
VERSION:2.0
PRODID:-//Δημοτική Βιβλιοθήκη Χανίων - ECPv6.15.14//NONSGML v1.0//EN
CALSCALE:GREGORIAN
METHOD:PUBLISH
X-WR-CALNAME:Δημοτική Βιβλιοθήκη Χανίων
X-ORIGINAL-URL:https://librarychania.gr
X-WR-CALDESC:Δημοτική Βιβλιοθήκη Χανίων - Εκδηλώσεις
REFRESH-INTERVAL;VALUE=DURATION:PT1H
X-Robots-Tag:noindex
X-PUBLISHED-TTL:PT1H
BEGIN:VTIMEZONE
TZID:Europe/Athens
BEGIN:DAYLIGHT
TZOFFSETFROM:+0200
TZOFFSETTO:+0300
TZNAME:EEST
DTSTART:20220327T010000
END:DAYLIGHT
BEGIN:STANDARD
TZOFFSETFROM:+0300
TZOFFSETTO:+0200
TZNAME:EET
DTSTART:20221030T010000
END:STANDARD
BEGIN:DAYLIGHT
TZOFFSETFROM:+0200
TZOFFSETTO:+0300
TZNAME:EEST
DTSTART:20230326T010000
END:DAYLIGHT
BEGIN:STANDARD
TZOFFSETFROM:+0300
TZOFFSETTO:+0200
TZNAME:EET
DTSTART:20231029T010000
END:STANDARD
BEGIN:DAYLIGHT
TZOFFSETFROM:+0200
TZOFFSETTO:+0300
TZNAME:EEST
DTSTART:20240331T010000
END:DAYLIGHT
BEGIN:STANDARD
TZOFFSETFROM:+0300
TZOFFSETTO:+0200
TZNAME:EET
DTSTART:20241027T010000
END:STANDARD
END:VTIMEZONE
BEGIN:VEVENT
DTSTART;TZID=Europe/Athens:20231122T090000
DTEND;TZID=Europe/Athens:20231124T170000
DTSTAMP:20260420T090312
CREATED:20231129T093319Z
LAST-MODIFIED:20231206T082835Z
UID:8139-1700643600-1700845200@librarychania.gr
SUMMARY:5ο Πανελλήνιο Συνέδριο της Ένωσης Ελλήνων Βιβλιοθηκονόμων & Επιστημόνων Πληροφόρησης (ΕΕΒΕΠ)\, 22-24 Νοεμβρίου 2023
DESCRIPTION:Η Δημοτική Βιβλιοθήκη Χανίων συμμετείχε ενεργά στο 5ο Πανελλήνιο Συνέδριο  της Ένωσης Ελλήνων Βιβλιοθηκονόμων & Επιστημόνων Πληροφόρησης (ΕΕΒΕΠ)\, που πραγματοποιήθηκε στις 22-24 Νοεμβρίου 2023\, στην Αθήνα. \nΜε θέμα «Διασυνδεδεμένες Βιβλιοθήκες – Linked Libraries»\, το συνέδριο διεξάχθηκε με τη συνεργασία της Δημοτικής Βιβλιοθήκης Ελληνικού – Αργυρούπολης στο Συνεδριακό Κέντρο «Μίκης Θεοδωράκης». \nΣτο πλαίσιο της συμμετοχής της Δημοτικής Βιβλιοθήκης Χανίων στο Συνέδριο\, η Προϊστάμενη Βιβή Χουδαλάκη πραγματοποίησε παρουσίαση με θέμα: «Δημοτική Βιβλιοθήκη Χανίων: Πορεία προς το Φεστιβάλ Βιβλίου»\, παρουσιάζοντας τους σπουδαιότερους σταθμούς στην αναβαθμισμένη πορεία και εξέλιξη της Δημοτικής Βιβλιοθήκης μας\, φτάνοντας έως το Φεστιβάλ Βιβλίου 2023. \nΓια το Φεστιβάλ Βιβλίου Χανίων αναλυτικότερα μίλησε ο συγγραφέας\, δημοσιογράφος και διευθυντής του\, κ. Μανώλης Πιμπλής. \nΤο παρών έδωσε και ο υπεύθυνος του έργου ψηφιοποίησης της Δημοτικής Βιβλιοθήκης Χανίων\, κ. Αλέξανδρος Τζωρτζακάκης με την εισήγησή του: «Δημοτικές Βιβλιοθήκες σε ψηφιακό περιβάλλον: Οι περιπτώσεις των Δημοτικών Βιβλιοθηκών Χανίων & Σύρου – Ερμούπολης». \nΣτο συνέδριο παρευρέθηκαν και οι βιβλιοθηκονόμοι του Δήμου Χανίων\, Μαρία Μαραβελάκη\, Χρυσούλα Αντωνακάκη και Αρχοντούλα Χουδαλάκη. \nΌπως επισήμανε κατά την τοποθέτησή της\, η Προϊσταμένη των Βιβλιοθηκών του Δήμου Χανίων\, κ. Χουδαλάκη: «Για εμάς\, τους βιβλιοθηκονόμους των Βιβλιοθηκών του Δήμου μας\, η παρουσία μας στο συνέδριο είναι μια πολύτιμη ευκαιρία για επιστημονική ενημέρωση\, επαγγελματική ζύμωση\, αναζήτηση νέων συνεργασιών και ανανέωση παλαιών επαφών. Θερμά συγχαρητήρια στην Ένωση Ελλήνων Βιβλιοθηκονόμων και Επιστημόνων Πληροφόρησης ΕΕΒΕΠ Ένωση Ελλήνων Βιβλιοθηκονόμων και Επιστημόνων Πληροφόρησης ΕΕΒΕΠ AGLIS για την εξαιρετική διοργάνωση. Ευχαριστούμε τη Δημοτική Αρχή που υποστηρίζει και στηρίζει τη “Διά Βίου Μάθηση” των υπαλλήλων του Δήμου μας\, δίδοντας μας την ευκαιρία να συμμετέχουμε σε ένα τόσο ενδιαφέρον Συνέδριο». \nΚατά τη διάρκεια του τριήμερου Συνεδρίου\, οι συμμετέχοντες είχαν την ευκαιρία να ενημερωθούν για ζητήματα βιβλιοθηκονομίας\, ενώ πραγματοποιήθηκαν παρουσιάσεις καλών πρακτικών\, ανταλλαγής απόψεων και ενημέρωσης για την εξέλιξη\, την πρόοδο αλλά και τα προβλήματα των βιβλιοθηκών στη χώρα μας.
URL:https://librarychania.gr/the-event/5%ce%bf-%cf%80%ce%b1%ce%bd%ce%b5%ce%bb%ce%bb%ce%ae%ce%bd%ce%b9%ce%bf-%cf%83%cf%85%ce%bd%ce%ad%ce%b4%cf%81%ce%b9%ce%bf-%ce%b4%ce%b7%ce%bc%ce%bf%cf%84%ce%b9%ce%ba%cf%8e%ce%bd-%ce%b2%ce%b9%ce%b2%ce%bb/
LOCATION:Αθήνα\, Συνεδριακό Κέντρο «Μίκης Θεοδωράκης»
CATEGORIES:17 Στόχοι Βιώσιμης Ανάπτυξης,Εκδηλώσεις,Στόχος 17 – Συνεργασία για τους Στόχους,Στόχος 4 – Ποιοτική Εκπαίδευση,Συνέδρια
ATTACH;FMTTYPE=image/jpeg:https://librarychania.gr/wp-content/uploads/2023/11/συν1.jpg
END:VEVENT
END:VCALENDAR