BEGIN:VCALENDAR
VERSION:2.0
PRODID:-//Δημοτική Βιβλιοθήκη Χανίων - ECPv6.15.14//NONSGML v1.0//EN
CALSCALE:GREGORIAN
METHOD:PUBLISH
X-WR-CALNAME:Δημοτική Βιβλιοθήκη Χανίων
X-ORIGINAL-URL:https://librarychania.gr
X-WR-CALDESC:Δημοτική Βιβλιοθήκη Χανίων - Εκδηλώσεις
REFRESH-INTERVAL;VALUE=DURATION:PT1H
X-Robots-Tag:noindex
X-PUBLISHED-TTL:PT1H
BEGIN:VTIMEZONE
TZID:Europe/Athens
BEGIN:DAYLIGHT
TZOFFSETFROM:+0200
TZOFFSETTO:+0300
TZNAME:EEST
DTSTART:20230326T010000
END:DAYLIGHT
BEGIN:STANDARD
TZOFFSETFROM:+0300
TZOFFSETTO:+0200
TZNAME:EET
DTSTART:20231029T010000
END:STANDARD
BEGIN:DAYLIGHT
TZOFFSETFROM:+0200
TZOFFSETTO:+0300
TZNAME:EEST
DTSTART:20240331T010000
END:DAYLIGHT
BEGIN:STANDARD
TZOFFSETFROM:+0300
TZOFFSETTO:+0200
TZNAME:EET
DTSTART:20241027T010000
END:STANDARD
BEGIN:DAYLIGHT
TZOFFSETFROM:+0200
TZOFFSETTO:+0300
TZNAME:EEST
DTSTART:20250330T010000
END:DAYLIGHT
BEGIN:STANDARD
TZOFFSETFROM:+0300
TZOFFSETTO:+0200
TZNAME:EET
DTSTART:20251026T010000
END:STANDARD
END:VTIMEZONE
BEGIN:VEVENT
DTSTART;TZID=Europe/Athens:20240916T090000
DTEND;TZID=Europe/Athens:20240919T200000
DTSTAMP:20260419T180338
CREATED:20240926T082815Z
LAST-MODIFIED:20240926T082815Z
UID:10031-1726477200-1726776000@librarychania.gr
SUMMARY:Συμμετοχή της Δημοτικής Βιβλιοθήκης Χανίων στο Συνέδριο της Ένωσης Ελλήνων Βιβλιοθηκονόμων & Επιστημόνων Πληροφόρησης
DESCRIPTION:Η Δημοτική Βιβλιοθήκη Χανίων συμμετείχε ενεργά στο συνέδριο της Ένωσης Ελλήνων Βιβλιοθηκονόμων και Επιστημόνων Πληροφόρησης ΕΕΒΕΠ\, που πραγματοποιήθηκε από τις 16 έως και 19 Σεπτεμβρίου 2024\, στην Κοβεντάρειο Δημοτική Βιβλιοθήκη Κοζάνης. \nΤο συνέδριο είχε ως θέμα τις «Συνέργειες\, Καινοτομίες και Μετασχηματισμοί στις Βιβλιοθήκες: Κατευθύνσεις για βιώσιμο μέλλον» ενώ στο πλαίσιο της συμμετοχής της Δημοτικής Βιβλιοθήκης Χανίων στο Συνέδριο\, η Προϊστάμενη Βιβή Χουδαλάκη πραγματοποίησε παρουσίαση με θέμα «Βιβλιοθήκες Δήμου Χανίων: Κέντρα Πολιτισμού -Γνώσης-Δημοκρατίας».\nΗ κ. Χουδαλάκη κατά την παρουσίασή της τόνισε μεταξύ άλλων ότι\, οι Βιβλιοθήκες του Δήμου Χανίων αποτελούν «κυψέλες» πολιτιστικών εκδηλώσεων και βιωματικών εμπειριών\, ποικίλων δράσεων και δημιουργικών εργαστηρίων που τις καθιστούν σημαντικά Κέντρα Πολιτισμού του τόπου. \nΚατά τη διάρκεια του Συνεδρίου πραγματοποιήθηκαν ομιλίες σχετικά με βιβλιοθηκονομικά ζητήματα\, παρουσιάσεις καλών πρακτικών\, ανταλλαγή απόψεων και ενημέρωση για την εξέλιξη\, την πρόοδο αλλά και τα προβλήματα των βιβλιοθηκών στη χώρα μας ενώ στο συνέδριο συμμετείχαν και οι βιβλιοθηκονόμοι του Δήμου Χανίων\, Αρετή Καρβέλη και Αργυρώ Κατσιγιαννάκη. \nΌπως υπογράμμισε η κ. Χουδαλάκη: «Για μας\, τους βιβλιοθηκονόμους των Βιβλιοθηκών του Δήμου μας\, η συμμετοχή μας στο συνέδριο αποτελεί μια πολύτιμη ευκαιρία για επιστημονική ενημέρωση\, επαγγελματική ζύμωση\, την ανανέωση των παλαιών επαφών και την αναζήτηση νέων συνεργασιών. Θερμά συγχαρητήρια στην Ένωση Ελλήνων Βιβλιοθηκονόμων και Επιστημόνων Πληροφόρησης ΕΕΒΕΠ\, στους αρμόδιους φορείς και συναδέλφους της Βιβλιοθήκης Κοζάνης\, για την εξαιρετική διοργάνωση\, τη φιλοξενία και τις ξεναγήσεις που επιμελήθηκαν. Ανανεώνουμε το ραντεβού μας για του χρόνου\, τον Ιούνιο του 2025\, στη Βιβλιοθήκη Καλαμπάκας». \n  \n 
URL:https://librarychania.gr/the-event/%cf%83%cf%85%ce%bc%ce%bc%ce%b5%cf%84%ce%bf%cf%87%ce%ae-%cf%84%ce%b7%cf%82-%ce%b4%ce%b7%ce%bc%ce%bf%cf%84%ce%b9%ce%ba%ce%ae%cf%82-%ce%b2%ce%b9%ce%b2%ce%bb%ce%b9%ce%bf%ce%b8%ce%ae%ce%ba%ce%b7%cf%82-2/
CATEGORIES:17 Στόχοι Βιώσιμης Ανάπτυξης,Εκδηλώσεις,Στόχος 17 – Συνεργασία για τους Στόχους,Στόχος 4 – Ποιοτική Εκπαίδευση,Συνέδρια
ATTACH;FMTTYPE=image/jpeg:https://librarychania.gr/wp-content/uploads/2024/09/συν6-1.jpg
END:VEVENT
END:VCALENDAR