BEGIN:VCALENDAR
VERSION:2.0
PRODID:-//Δημοτική Βιβλιοθήκη Χανίων - ECPv6.15.14//NONSGML v1.0//EN
CALSCALE:GREGORIAN
METHOD:PUBLISH
X-WR-CALNAME:Δημοτική Βιβλιοθήκη Χανίων
X-ORIGINAL-URL:https://librarychania.gr
X-WR-CALDESC:Δημοτική Βιβλιοθήκη Χανίων - Εκδηλώσεις
REFRESH-INTERVAL;VALUE=DURATION:PT1H
X-Robots-Tag:noindex
X-PUBLISHED-TTL:PT1H
BEGIN:VTIMEZONE
TZID:Europe/Athens
BEGIN:DAYLIGHT
TZOFFSETFROM:+0200
TZOFFSETTO:+0300
TZNAME:EEST
DTSTART:20220327T010000
END:DAYLIGHT
BEGIN:STANDARD
TZOFFSETFROM:+0300
TZOFFSETTO:+0200
TZNAME:EET
DTSTART:20221030T010000
END:STANDARD
BEGIN:DAYLIGHT
TZOFFSETFROM:+0200
TZOFFSETTO:+0300
TZNAME:EEST
DTSTART:20230326T010000
END:DAYLIGHT
BEGIN:STANDARD
TZOFFSETFROM:+0300
TZOFFSETTO:+0200
TZNAME:EET
DTSTART:20231029T010000
END:STANDARD
BEGIN:DAYLIGHT
TZOFFSETFROM:+0200
TZOFFSETTO:+0300
TZNAME:EEST
DTSTART:20240331T010000
END:DAYLIGHT
BEGIN:STANDARD
TZOFFSETFROM:+0300
TZOFFSETTO:+0200
TZNAME:EET
DTSTART:20241027T010000
END:STANDARD
END:VTIMEZONE
BEGIN:VEVENT
DTSTART;TZID=Europe/Athens:20230515T180000
DTEND;TZID=Europe/Athens:20230515T200000
DTSTAMP:20260422T170002
CREATED:20230525T124211Z
LAST-MODIFIED:20230525T124211Z
UID:6876-1684173600-1684180800@librarychania.gr
SUMMARY:7η Παγκόσμια Εβδομάδα Οδικής Ασφάλειας του ΟΗΕ. Στις 15 Μαϊου στην  Παιδική-Εφηβική Βιβλιοθήκη Δημοτικού Κήπου.
DESCRIPTION:“Ο Λευτέρης πάει βόλτα\, ζώνη κράνος φύγαμε!”\n\n\n\n\n\nΜέσα από την ιστορία του Λευτέρη τα παιδιά μαθαίνουν τη σημασία της κυκλοφοριακής αγωγής και τους κανόνες οδικής ασφάλειας.\n\n\nΜε το εξαιρετικό κείμενο της συγγραφέως Μαρίνας Πλούμπη και την εικονογράφηση της Άννης Θεοχάρη\, δίνουν στα παιδιά την ευκαιρία να γνωρίσουν τις πινακίδες σήμανσης\, τη σωστή συμπεριφορά του πεζού\, του ποδηλάτη\, του επιβάτη και γενικότερα την ασφαλή μετακίνηση…\n\n\nΈτσι ξεκίνησε με τα παιδιά μια κουβέντα για την οδική κυκλοφορία και ασφάλεια και ακολούθησε χαρτοκοπτική και θεατρικό παιχνίδι!!!\n\n\nΕυχαριστούμε για τη συνεργασία Μαρίνα Πλούμπη και Στέλλα Αγιασμενάκη!\n\n\n\nΔευτέρα 15 Μαΐου 2023\, στην  Παιδική-Εφηβική Βιβλιοθήκη Δημοτικού Κήπου\, με τη συγγραφέα Μαρίνα Πλούμπη γιορτάσαμε την 7η Παγκόσμια Εβδομάδα Οδικής Ασφάλειας του ΟΗΕ\, διοργανώνοντας εκδήλωση με:\nαφήγηση\,\nθεατρικό παιχνίδι\nκατασκευές\nμε βάση το παιδικό βιβλίο “Ο Λευτέρης πάει βόλτα\, ζώνη κράνος φύγαμε!” με θέμα την κυκλοφοριακή αγωγή και ασφάλεια .\nΘεατρικό παιχνίδι με τη θεατρολόγο Στέλλα Αγιασμενάκη.\n\n“Εχτές βρέθηκα σε ένα πολύ αγαπημένο μέρος! Στην Παιδική – Εφηβική Βιβλιοθήκη Κήπου στα Χανιά. Σπουδαίο και πολύτιμα σημαντικό το έργο της \, μεγάλη τιμή να βρίσκομαι και εγώ εκεί με το έργο μου το παιδικό βιβλίο “Ο Λευτέρης πάει βόλτα\, ζώνη κράνος φύγαμε!”  Εκδόσεις Συμμετρία εικονογράφηση Annie Theochari στα πλαίσια των 2ημερων εκδηλώσεων της Περιφέρεια Κρήτης / Region of Crete του Δήμος Χανίων – Municipality of Chania και της Δημοτική Βιβλιοθήκη Χανίων για την 7η Παγκόσμια Εβδομάδα Οδικής Ασφάλειας του ΟΗΕ (Global Road Safety Week)\n#RethinkMobility #StreetsForLife #RoadSafety\nhttps://www.who.int/campa…/un-global-road-safety-week/2023\n\nΔιαβάσαμε\, προβληματιστήκαμε\, παίξαμε θεατρικό παιχνίδι\, κατασκευάσαμε το δικό μας φανάρι μα πάνω απ’ όλα γελάσαμε\, διασκεδάσαμε\, περάσαμε όμορφα με αφορμή το παιδικό βιβλίο.\nκράνος #κρανος\nζώνη #ζώνη\nεπιγονατίδες #επιγονατίδες\nχαμόγελο #χαμόγελο\nΦύγαμε!!!\nΗ οδική ασφάλεια είναι τόσο προϋπόθεση όσο και αποτέλεσμα αυτής της αλλαγής.”\n\n\nΜαρίνα Πλούμπη
URL:https://librarychania.gr/the-event/7%ce%b7-%cf%80%ce%b1%ce%b3%ce%ba%cf%8c%cf%83%ce%bc%ce%b9%ce%b1-%ce%b5%ce%b2%ce%b4%ce%bf%ce%bc%ce%ac%ce%b4%ce%b1-%ce%bf%ce%b4%ce%b9%ce%ba%ce%ae%cf%82-%ce%b1%cf%83%cf%86%ce%ac%ce%bb%ce%b5%ce%b9%ce%b1-2/
LOCATION:Παιδική-Εφηβική Βιβλιοθήκη Δημοτικού Κήπου\, Δημοτικός Κήπος Χανίων\, Χανιά\, Χανίων\, 73100\, Ελλάδα
CATEGORIES:17 Στόχοι Βιώσιμης Ανάπτυξης,Εκδηλώσεις,Προγράμματα για παιδιά γονείς εκπαιδευτικούς,Στόχος 11 – Βιώσιμες Πόλεις και Κοινότητες,Στόχος 17 – Συνεργασία για τους Στόχους,Στόχος 3 – Καλή Υγεία και Ευημερία,Στόχος 4 – Ποιοτική Εκπαίδευση
ATTACH;FMTTYPE=image/jpeg:https://librarychania.gr/wp-content/uploads/2023/05/ασφ6.jpg
END:VEVENT
BEGIN:VEVENT
DTSTART;TZID=Europe/Athens:20230515T180000
DTEND;TZID=Europe/Athens:20230516T200000
DTSTAMP:20260422T170002
CREATED:20230512T101016Z
LAST-MODIFIED:20230512T101336Z
UID:6828-1684173600-1684267200@librarychania.gr
SUMMARY:7η Παγκόσμια Εβδομάδα Οδικής Ασφάλειας του ΟΗΕ: Στις 15 & 16/5 από την Περιφέρεια Κρήτης – Περιφερειακή Ενότητα Χανίων\, τον Δήμο Χανίων & τη Δημοτική βιβλιοθήκη Χανίων
DESCRIPTION:Διήμερες εκδηλώσεις για την 7η Παγκόσμια Εβδομάδα Οδικής Ασφάλειας του ΟΗΕ: Στις 15 & 16/5 από την Περιφέρεια Κρήτης – Περιφερειακή Ενότητα Χανίων\, τον Δήμο Χανίων & τη Δημοτική βιβλιοθήκη Χανίων.\n\n\n\nΗ Περιφέρεια Κρήτης – Περιφερειακή Ενότητα Χανίων\, ο Δήμος Χανίων και η Δημοτική βιβλιοθήκη Χανίων\, σε συνεργασία με τις εκδόσεις Συμμετρία και τη συγγραφέα Μαρίνα Πλούμπη γιορτάζουν την 7η Παγκόσμια Εβδομάδα Οδικής Ασφάλειας του ΟΗΕ\, διοργανώνοντας 2ήμερο εκδηλώσεων με:\n\nαφήγηση\,\nθεατρικό παιχνίδι\nκατασκευές\nμε βάση το παιδικό βιβλίο “Ο Λευτέρης πάει βόλτα\, ζώνη κράνος φύγαμε!” με θέμα την κυκλοφοριακή αγωγή και ασφάλεια .\n\n\n15 Μαΐου\, ώρα 18.00 στην Παιδική-Εφηβική Βιβλιοθήκη Δημοτικού Κήπου.\nΘεατρικό παιχνίδι με τη θεατρολόγο Στέλλα Αγιασμενάκη.\n\n\n16 Μαΐου ώρα 18.30 στο Πνευματικό Κέντρο Χανίων.\n\n\nΜετά την ανάγνωση θα ακολουθήσουν διάφορες δραστηριότητες όπως θεατρικό παιχνίδι και κατασκευές\n\n\n\nΟ Παγκόσμιος Οργανισμός Υγείας εξήγγειλε την 7η Παγκόσμια Εβδομάδα Οδικής Ασφάλειας του ΟΗΕ από τις 15 έως τις 21 Μαΐου 2023. https://www.who.int/campa…/un-global-road-safety-week/2023\n\n\n\nΗ 7η Παγκόσμια Εβδομάδα Οδικής Ασφάλειας (Global Road Safety Week) εστιάζει στις βιώσιμες μεταφορές\, και πιο συγκεκριμένα στο να κάνουμε στροφή προς το περπάτημα\, το ποδήλατο αλλά και τη χρήση των μέσων μαζικής μεταφοράς. Η οδική ασφάλεια είναι τόσο προϋπόθεση όσο και αποτέλεσμα αυτής της αλλαγής. Φέτος ο Παγκόσμιος Οργανισμός Υγείας για την 7η Παγκόσμια Εβδομάδα Οδικής Ασφάλειας (Global Road Safety Week) προωθεί τα εξής μηνύματα\n\n\n\n#RethinkMobility\n\n\n#StreetsforLife\n\n\n\n#RoadSafety
URL:https://librarychania.gr/the-event/7%ce%b7-%cf%80%ce%b1%ce%b3%ce%ba%cf%8c%cf%83%ce%bc%ce%b9%ce%b1-%ce%b5%ce%b2%ce%b4%ce%bf%ce%bc%ce%ac%ce%b4%ce%b1-%ce%bf%ce%b4%ce%b9%ce%ba%ce%ae%cf%82-%ce%b1%cf%83%cf%86%ce%ac%ce%bb%ce%b5%ce%b9%ce%b1/
LOCATION:Παιδική-Εφηβική Βιβλιοθήκη Δημοτικού Κήπου\, Δημοτικός Κήπος Χανίων\, Χανιά\, Χανίων\, 73100\, Ελλάδα
CATEGORIES:17 Στόχοι Βιώσιμης Ανάπτυξης,Εκδηλώσεις,Στόχος 11 – Βιώσιμες Πόλεις και Κοινότητες,Στόχος 17 – Συνεργασία για τους Στόχους,Στόχος 3 – Καλή Υγεία και Ευημερία,Στόχος 4 – Ποιοτική Εκπαίδευση
ATTACH;FMTTYPE=image/jpeg:https://librarychania.gr/wp-content/uploads/2023/05/οδικη.jpg
END:VEVENT
END:VCALENDAR