BEGIN:VCALENDAR
VERSION:2.0
PRODID:-//Δημοτική Βιβλιοθήκη Χανίων - ECPv6.15.14//NONSGML v1.0//EN
CALSCALE:GREGORIAN
METHOD:PUBLISH
X-ORIGINAL-URL:https://librarychania.gr
X-WR-CALDESC:Δημοτική Βιβλιοθήκη Χανίων - Εκδηλώσεις
REFRESH-INTERVAL;VALUE=DURATION:PT1H
X-Robots-Tag:noindex
X-PUBLISHED-TTL:PT1H
BEGIN:VTIMEZONE
TZID:Europe/Athens
BEGIN:DAYLIGHT
TZOFFSETFROM:+0200
TZOFFSETTO:+0300
TZNAME:EEST
DTSTART:20230326T010000
END:DAYLIGHT
BEGIN:STANDARD
TZOFFSETFROM:+0300
TZOFFSETTO:+0200
TZNAME:EET
DTSTART:20231029T010000
END:STANDARD
BEGIN:DAYLIGHT
TZOFFSETFROM:+0200
TZOFFSETTO:+0300
TZNAME:EEST
DTSTART:20240331T010000
END:DAYLIGHT
BEGIN:STANDARD
TZOFFSETFROM:+0300
TZOFFSETTO:+0200
TZNAME:EET
DTSTART:20241027T010000
END:STANDARD
BEGIN:DAYLIGHT
TZOFFSETFROM:+0200
TZOFFSETTO:+0300
TZNAME:EEST
DTSTART:20250330T010000
END:DAYLIGHT
BEGIN:STANDARD
TZOFFSETFROM:+0300
TZOFFSETTO:+0200
TZNAME:EET
DTSTART:20251026T010000
END:STANDARD
END:VTIMEZONE
BEGIN:VEVENT
DTSTART;TZID=Europe/Athens:20240722T150000
DTEND;TZID=Europe/Athens:20240722T210000
DTSTAMP:20260422T152808
CREATED:20240717T061932Z
LAST-MODIFIED:20240717T061932Z
UID:9706-1721660400-1721682000@librarychania.gr
SUMMARY:«Τα βιβλία αλλάζουν χέρια και χαιρόμαστε!» στη Δημοτική Βιβλιοθήκη Χανίων
DESCRIPTION:Εκατοντάδες βιβλία θα χαρίσει η Δημοτική Βιβλιοθήκη Χανίων κατά τη διάρκεια εκδήλωσης με τίτλο: «Τα βιβλία αλλάζουν χέρια και χαιρόμαστε!»\, τη Δευτέρα 22 Ιουλίου 2024 και ώρα 3μ.μ. έως 9μ.μ. στο χώρο του αναγνωστηρίου της Βιβλιοθήκης. (Υψηλαντών 30) \nΗ Δημοτική Βιβλιοθήκη Χανίων δέχεται καθημερινά δωρεές βιβλίων ποικίλου περιεχομένου από συμπολίτες μας. Τα πολλαπλά αντίτυπα δωρίζονται σε άλλες βιβλιοθήκες του Νομού μας\, σε Σχολικές Βιβλιοθήκες και στις Ανταλλακτικές Βιβλιοθήκες. \nΦέτος\, διοργανώνεται δεύτερη φορά\, η προσφορά στο αναγνωστικό κοινό\, εκατοντάδων τίτλων βιβλίων από τα πολλαπλά αντίτυπα δωρεών! \nΣας περιμένουμε να διαλέξετε αυτά που επιθυμείτε!
URL:https://librarychania.gr/the-event/%cf%84%ce%b1-%ce%b2%ce%b9%ce%b2%ce%bb%ce%af%ce%b1-%ce%b1%ce%bb%ce%bb%ce%ac%ce%b6%ce%bf%cf%85%ce%bd-%cf%87%ce%ad%cf%81%ce%b9%ce%b1-%ce%ba%ce%b1%ce%b9-%cf%87%ce%b1%ce%b9%cf%81%cf%8c%ce%bc%ce%b1-3/
LOCATION:Δημοτική Βιβλιοθήκη Χανίων\, Υψηλαντών 30\, Χανιά\, Χανίων\, 73100\, Ελλάδα
CATEGORIES:17 Στόχοι Βιώσιμης Ανάπτυξης,Εκδηλώσεις,Μπαζάρ βιβλίου,Στόχος 17 – Συνεργασία για τους Στόχους,Στόχος 4 – Ποιοτική Εκπαίδευση
ATTACH;FMTTYPE=image/jpeg:https://librarychania.gr/wp-content/uploads/2024/07/μπαζαρ2.jpg
END:VEVENT
END:VCALENDAR